BEGIN:VCALENDAR
VERSION:2.0
PRODID:-//Minnesota Crisis Intervention Team - ECPv6.15.20//NONSGML v1.0//EN
CALSCALE:GREGORIAN
METHOD:PUBLISH
X-ORIGINAL-URL:https://mncit.org
X-WR-CALDESC:Events for Minnesota Crisis Intervention Team
REFRESH-INTERVAL;VALUE=DURATION:PT1H
X-Robots-Tag:noindex
X-PUBLISHED-TTL:PT1H
BEGIN:VTIMEZONE
TZID:America/Chicago
BEGIN:DAYLIGHT
TZOFFSETFROM:-0600
TZOFFSETTO:-0500
TZNAME:CDT
DTSTART:20250309T080000
END:DAYLIGHT
BEGIN:STANDARD
TZOFFSETFROM:-0500
TZOFFSETTO:-0600
TZNAME:CST
DTSTART:20251102T070000
END:STANDARD
BEGIN:DAYLIGHT
TZOFFSETFROM:-0600
TZOFFSETTO:-0500
TZNAME:CDT
DTSTART:20260308T080000
END:DAYLIGHT
BEGIN:STANDARD
TZOFFSETFROM:-0500
TZOFFSETTO:-0600
TZNAME:CST
DTSTART:20261101T070000
END:STANDARD
BEGIN:DAYLIGHT
TZOFFSETFROM:-0600
TZOFFSETTO:-0500
TZNAME:CDT
DTSTART:20270314T080000
END:DAYLIGHT
BEGIN:STANDARD
TZOFFSETFROM:-0500
TZOFFSETTO:-0600
TZNAME:CST
DTSTART:20271107T070000
END:STANDARD
END:VTIMEZONE
BEGIN:VEVENT
DTSTART;TZID=America/Chicago:20261110T080000
DTEND;TZID=America/Chicago:20261110T170000
DTSTAMP:20260422T041121
CREATED:20260313T195552Z
LAST-MODIFIED:20260327T155351Z
UID:11867-1794297600-1794330000@mncit.org
SUMMARY:MN CIT 8-Hour Mental Health Awareness - Refresher - Inver Grove Heights - 111026
DESCRIPTION:8 Hour Mental Health Awareness – Refresher Class – 1 full day (0800-1700); POST approved \nThis 8-hour class is helpful in understanding the basics of mental illness. The class will cover an overview of mental illness: schizophrenia and psychotic disorders\, mood disorders\, cognitive disorders\, personality disorders\, and substance disorders. We will look at the causes and nature of the illnesses\, typical patterns of behavior\, common medications\, and guidelines for officer response. \nThis class is used as a refresher for those who have taken the 40-hour certification class. \nPOST members who complete this class will will receive 8 hours of continuing education credits. \n**Please use CHROME browser when registering for class.
URL:https://mncit.org/event/mn-cit-8-hour-mental-health-awareness-refresher-inver-grove-heights-111026/
LOCATION:SMART Center\, 9260 Courthouse Blvd\, Inver Grove Heights\, MN
CATEGORIES:8 Hour Mental Health Awareness with Refresher,8 Hour Refresher Class,8-Hour Mental Health Awareness
END:VEVENT
END:VCALENDAR