BEGIN:VCALENDAR
VERSION:2.0
PRODID:-//Minnesota Crisis Intervention Team - ECPv6.15.20//NONSGML v1.0//EN
CALSCALE:GREGORIAN
METHOD:PUBLISH
X-ORIGINAL-URL:https://mncit.org
X-WR-CALDESC:Events for Minnesota Crisis Intervention Team
REFRESH-INTERVAL;VALUE=DURATION:PT1H
X-Robots-Tag:noindex
X-PUBLISHED-TTL:PT1H
BEGIN:VTIMEZONE
TZID:America/Chicago
BEGIN:DAYLIGHT
TZOFFSETFROM:-0600
TZOFFSETTO:-0500
TZNAME:CDT
DTSTART:20240310T080000
END:DAYLIGHT
BEGIN:STANDARD
TZOFFSETFROM:-0500
TZOFFSETTO:-0600
TZNAME:CST
DTSTART:20241103T070000
END:STANDARD
BEGIN:DAYLIGHT
TZOFFSETFROM:-0600
TZOFFSETTO:-0500
TZNAME:CDT
DTSTART:20250309T080000
END:DAYLIGHT
BEGIN:STANDARD
TZOFFSETFROM:-0500
TZOFFSETTO:-0600
TZNAME:CST
DTSTART:20251102T070000
END:STANDARD
BEGIN:DAYLIGHT
TZOFFSETFROM:-0600
TZOFFSETTO:-0500
TZNAME:CDT
DTSTART:20260308T080000
END:DAYLIGHT
BEGIN:STANDARD
TZOFFSETFROM:-0500
TZOFFSETTO:-0600
TZNAME:CST
DTSTART:20261101T070000
END:STANDARD
END:VTIMEZONE
BEGIN:VEVENT
DTSTART;TZID=America/Chicago:20250424T080000
DTEND;TZID=America/Chicago:20250424T170000
DTSTAMP:20260420T011324
CREATED:20250129T171649Z
LAST-MODIFIED:20250129T171907Z
UID:10469-1745481600-1745514000@mncit.org
SUMMARY:MN CIT 8-Hour Mental Health Awareness For Dispatchers - Mankato - 042425
DESCRIPTION:8 Hour Mental Health Awareness Class For Dispatchers – 1 full day (0800-1700) \nThis 8-hour class is helpful in understanding the basics of mental illness. The class will cover an overview of mental illness: schizophrenia and psychotic disorders\, mood disorders\, cognitive disorders\, personality disorders\, and substance disorders. We will look at the causes and nature of the illnesses\, typical patterns of behavior\, common medications\, and guidelines for dispatcher response. This class is intended for Dispatchers\, 911 Call Takers\, and all related occupations. \n**Please use CHROME browser when registering for class.
URL:https://mncit.org/event/mn-cit-8-hour-mental-health-awareness-for-dispatchers-mankato-042425/
LOCATION:Blue Earth Co. Sheriff’s Office\, Blue Earth Co. Sheriff's Office\, EOC Room\, 401 Carver Rd\, Mankato\, MN
CATEGORIES:8-Hour Mental Health Awareness
END:VEVENT
END:VCALENDAR