BEGIN:VCALENDAR
VERSION:2.0
PRODID:-//Minnesota Crisis Intervention Team - ECPv6.15.20//NONSGML v1.0//EN
CALSCALE:GREGORIAN
METHOD:PUBLISH
X-WR-CALNAME:Minnesota Crisis Intervention Team
X-ORIGINAL-URL:https://mncit.org
X-WR-CALDESC:Events for Minnesota Crisis Intervention Team
REFRESH-INTERVAL;VALUE=DURATION:PT1H
X-Robots-Tag:noindex
X-PUBLISHED-TTL:PT1H
BEGIN:VTIMEZONE
TZID:America/Chicago
BEGIN:DAYLIGHT
TZOFFSETFROM:-0600
TZOFFSETTO:-0500
TZNAME:CDT
DTSTART:20250309T080000
END:DAYLIGHT
BEGIN:STANDARD
TZOFFSETFROM:-0500
TZOFFSETTO:-0600
TZNAME:CST
DTSTART:20251102T070000
END:STANDARD
BEGIN:DAYLIGHT
TZOFFSETFROM:-0600
TZOFFSETTO:-0500
TZNAME:CDT
DTSTART:20260308T080000
END:DAYLIGHT
BEGIN:STANDARD
TZOFFSETFROM:-0500
TZOFFSETTO:-0600
TZNAME:CST
DTSTART:20261101T070000
END:STANDARD
BEGIN:DAYLIGHT
TZOFFSETFROM:-0600
TZOFFSETTO:-0500
TZNAME:CDT
DTSTART:20270314T080000
END:DAYLIGHT
BEGIN:STANDARD
TZOFFSETFROM:-0500
TZOFFSETTO:-0600
TZNAME:CST
DTSTART:20271107T070000
END:STANDARD
END:VTIMEZONE
BEGIN:VEVENT
DTSTART;VALUE=DATE:20260401
DTEND;VALUE=DATE:20260501
DTSTAMP:20260420T014359
CREATED:20260206T165044Z
LAST-MODIFIED:20260206T165044Z
UID:11721-1775001600-1777593599@mncit.org
SUMMARY:MN CIT 24-Hour CIT Online Courses 0426
DESCRIPTION:24 Hour CIT Online Courses – POST approved. This is a series of 24 hours of eLearning courses for first responders which provide an understanding of major and severe forms of mental illness\, give an in-depth look at its implications for law enforcement\, develop a practical assessment plan for working with people in crisis\, as well as teach intervention and de-escalation techniques while addressing the safety for all involved. In addition to covering mental illnesses\, this will also include substance disorders\, suicide assessment\, adolescent and elder issues\, ASD\, PTSD\, suicide by cop\, officer wellness\, cultural considerations and implicit bias\, and mental health courts. \nThere will be 19 modules\, most are one hour\, a few are two hours as designated. After completion of the 19 modules (24 hours of online training)\, learners will be eligible to register for the 16 hours of in-person interactive role play scenarios with professional actors. Once both of these courses are completed\, learners will receive a 40-hour CIT class certificate from Minnesota CIT and will be eligible for 40 hours of POST board continuing education credit which includes the 16 hours of POST mandatory learning objective credits required for license renewal. \n**Login information will be provided within one week of registration. This registration is reoccurring monthly\, and modules are NOT required to be completed in the month you register.
URL:https://mncit.org/event/mn-cit-24-hour-cit-online-courses-0426/
LOCATION:Online\, MN\, United States
END:VEVENT
BEGIN:VEVENT
DTSTART;TZID=America/Chicago:20260420T080000
DTEND;TZID=America/Chicago:20260420T170000
DTSTAMP:20260420T014359
CREATED:20260303T181411Z
LAST-MODIFIED:20260303T181411Z
UID:11814-1776672000-1776704400@mncit.org
SUMMARY:MN CIT 8-Hour Mental Health Awareness for Minneapolis Dispatchers - Inver Grove Heights - 042026
DESCRIPTION:8 Hour Mental Health Awareness Class For Dispatchers – 1 full day (0800-1700) \nThis 8-hour class is helpful in understanding the basics of mental illness. The class will cover an overview of mental illness: schizophrenia and psychotic disorders\, mood disorders\, cognitive disorders\, personality disorders\, and substance disorders. We will look at the causes and nature of the illnesses\, typical patterns of behavior\, common medications\, and guidelines for dispatcher response. This class is intended for Dispatchers\, 911 Call Takers\, and all related occupations. \n**Please use CHROME browser when registering for class.
URL:https://mncit.org/event/mn-cit-8-hour-mental-health-awareness-for-minneapolis-dispatchers-inver-grove-heights-042026/
LOCATION:SMART Center\, 9260 Courthouse Blvd\, Inver Grove Heights\, MN
END:VEVENT
END:VCALENDAR